BEGIN:VCALENDAR
VERSION:2.0
PRODID:-//Stiftung Amalie Widmer - ECPv6.15.17.1//NONSGML v1.0//EN
CALSCALE:GREGORIAN
METHOD:PUBLISH
X-WR-CALNAME:Stiftung Amalie Widmer
X-ORIGINAL-URL:https://sawh.ch
X-WR-CALDESC:Veranstaltungen im Stiftung Amalie Widmer
REFRESH-INTERVAL;VALUE=DURATION:PT1H
X-Robots-Tag:noindex
X-PUBLISHED-TTL:PT1H
BEGIN:VTIMEZONE
TZID:Europe/Zurich
BEGIN:DAYLIGHT
TZOFFSETFROM:+0100
TZOFFSETTO:+0200
TZNAME:CEST
DTSTART:20250330T010000
END:DAYLIGHT
BEGIN:STANDARD
TZOFFSETFROM:+0200
TZOFFSETTO:+0100
TZNAME:CET
DTSTART:20251026T010000
END:STANDARD
BEGIN:DAYLIGHT
TZOFFSETFROM:+0100
TZOFFSETTO:+0200
TZNAME:CEST
DTSTART:20260329T010000
END:DAYLIGHT
BEGIN:STANDARD
TZOFFSETFROM:+0200
TZOFFSETTO:+0100
TZNAME:CET
DTSTART:20261025T010000
END:STANDARD
BEGIN:DAYLIGHT
TZOFFSETFROM:+0100
TZOFFSETTO:+0200
TZNAME:CEST
DTSTART:20270328T010000
END:DAYLIGHT
BEGIN:STANDARD
TZOFFSETFROM:+0200
TZOFFSETTO:+0100
TZNAME:CET
DTSTART:20271031T010000
END:STANDARD
END:VTIMEZONE
BEGIN:VEVENT
DTSTART;TZID=Europe/Zurich:20260423T100000
DTEND;TZID=Europe/Zurich:20260423T110000
DTSTAMP:20260419T145330
CREATED:20251218T141226Z
LAST-MODIFIED:20251218T141226Z
UID:10000568-1776938400-1776942000@sawh.ch
SUMMARY:Gottesdienst katholisch
DESCRIPTION:Katholischer Gottesdienst im Andachtsraum   \nWir laden herzlich zu unseren katholischen Gottesdiensten im Andachtsraum ein. \nDie Feiern finden donnerstags um 10:00 Uhr statt und richten sich an Bewohnerinnen und Bewohner sowie Anwohnende. \nAlle sind willkommen – unabhängig von Konfession oder Hintergrund. \nDatum: 23. April 2026\nOrt: Andachtsraum\nUhrzeit: 10:00 – ca. 11.00 Uhr\nFür wen: Offen für alle – besonders für Bewohnendeund Anwohnende \nErleben Sie mit uns eine Zeit der Besinnung\, des Gebets und der Gemeinschaft. Wir freuen uns auf Sie!
URL:https://sawh.ch/event/gottesdienst-katholisch-27/
LOCATION:Andachtsraum
CATEGORIES:Extern/Intern
ATTACH;FMTTYPE=image/jpeg:https://sawh.ch/wp-content/uploads/2025/09/20250905_dlz_foto_envato_veranstaltungen_gottesdienst_02-1.jpg
END:VEVENT
BEGIN:VEVENT
DTSTART;TZID=Europe/Zurich:20260507T100000
DTEND;TZID=Europe/Zurich:20260507T110000
DTSTAMP:20260419T145330
CREATED:20251218T140349Z
LAST-MODIFIED:20251218T140408Z
UID:10000563-1778148000-1778151600@sawh.ch
SUMMARY:Gottesdienst katholisch
DESCRIPTION:Katholischer Gottesdienst im Andachtsraum   \nWir laden herzlich zu unseren katholischen Gottesdiensten im Andachtsraum ein. \nDie Feiern finden donnerstags um 10:00 Uhr statt und richten sich an Bewohnerinnen und Bewohner sowie Anwohnende. \nAlle sind willkommen – unabhängig von Konfession oder Hintergrund. \nDatum: 07. Mai 2026\nOrt: Andachtsraum\nUhrzeit: 10:00 – ca. 11.00 Uhr\nFür wen: Offen für alle – besonders für Bewohnendeund Anwohnende \nErleben Sie mit uns eine Zeit der Besinnung\, des Gebets und der Gemeinschaft. Wir freuen uns auf Sie!
URL:https://sawh.ch/event/gottesdienst-katholisch-22/
LOCATION:Andachtsraum
CATEGORIES:Extern/Intern
ATTACH;FMTTYPE=image/jpeg:https://sawh.ch/wp-content/uploads/2025/09/20250905_dlz_foto_envato_veranstaltungen_gottesdienst_02-1.jpg
END:VEVENT
BEGIN:VEVENT
DTSTART;TZID=Europe/Zurich:20260521T100000
DTEND;TZID=Europe/Zurich:20260521T110000
DTSTAMP:20260419T145330
CREATED:20251218T140854Z
LAST-MODIFIED:20251218T140854Z
UID:10000567-1779357600-1779361200@sawh.ch
SUMMARY:Gottesdienst katholisch
DESCRIPTION:Katholischer Gottesdienst im Andachtsraum   \nWir laden herzlich zu unseren katholischen Gottesdiensten im Andachtsraum ein. \nDie Feiern finden donnerstags um 10:00 Uhr statt und richten sich an Bewohnerinnen und Bewohner sowie Anwohnende. \nAlle sind willkommen – unabhängig von Konfession oder Hintergrund. \nDatum: 21. Mai 2026\nOrt: Andachtsraum\nUhrzeit: 10:00 – ca. 11.00 Uhr\nFür wen: Offen für alle – besonders für Bewohnendeund Anwohnende \nErleben Sie mit uns eine Zeit der Besinnung\, des Gebets und der Gemeinschaft. Wir freuen uns auf Sie!
URL:https://sawh.ch/event/gottesdienst-katholisch-26/
LOCATION:Andachtsraum
CATEGORIES:Extern/Intern
ATTACH;FMTTYPE=image/jpeg:https://sawh.ch/wp-content/uploads/2025/09/20250905_dlz_foto_envato_veranstaltungen_gottesdienst_02-1.jpg
END:VEVENT
BEGIN:VEVENT
DTSTART;TZID=Europe/Zurich:20260604T100000
DTEND;TZID=Europe/Zurich:20260604T110000
DTSTAMP:20260419T145330
CREATED:20251218T140723Z
LAST-MODIFIED:20251218T140723Z
UID:10000566-1780567200-1780570800@sawh.ch
SUMMARY:Gottesdienst katholisch
DESCRIPTION:Katholischer Gottesdienst im Andachtsraum   \nWir laden herzlich zu unseren katholischen Gottesdiensten im Andachtsraum ein. \nDie Feiern finden donnerstags um 10:00 Uhr statt und richten sich an Bewohnerinnen und Bewohner sowie Anwohnende. \nAlle sind willkommen – unabhängig von Konfession oder Hintergrund. \nDatum: 04. Juni 2026\nOrt: Andachtsraum\nUhrzeit: 10:00 – ca. 11.00 Uhr\nFür wen: Offen für alle – besonders für Bewohnendeund Anwohnende \nErleben Sie mit uns eine Zeit der Besinnung\, des Gebets und der Gemeinschaft. Wir freuen uns auf Sie!
URL:https://sawh.ch/event/gottesdienst-katholisch-25/
LOCATION:Andachtsraum
CATEGORIES:Extern/Intern
ATTACH;FMTTYPE=image/jpeg:https://sawh.ch/wp-content/uploads/2025/09/20250905_dlz_foto_envato_veranstaltungen_gottesdienst_02-1.jpg
END:VEVENT
BEGIN:VEVENT
DTSTART;TZID=Europe/Zurich:20260618T100000
DTEND;TZID=Europe/Zurich:20260618T110000
DTSTAMP:20260419T145330
CREATED:20251218T140642Z
LAST-MODIFIED:20251218T140642Z
UID:10000565-1781776800-1781780400@sawh.ch
SUMMARY:Gottesdienst katholisch
DESCRIPTION:Katholischer Gottesdienst im Andachtsraum   \nWir laden herzlich zu unseren katholischen Gottesdiensten im Andachtsraum ein. \nDie Feiern finden donnerstags um 10:00 Uhr statt und richten sich an Bewohnerinnen und Bewohner sowie Anwohnende. \nAlle sind willkommen – unabhängig von Konfession oder Hintergrund. \nDatum: 18. Juni 2026\nOrt: Andachtsraum\nUhrzeit: 10:00 – ca. 11.00 Uhr\nFür wen: Offen für alle – besonders für Bewohnendeund Anwohnende \nErleben Sie mit uns eine Zeit der Besinnung\, des Gebets und der Gemeinschaft. Wir freuen uns auf Sie!
URL:https://sawh.ch/event/gottesdienst-katholisch-24/
LOCATION:Andachtsraum
CATEGORIES:Extern/Intern
ATTACH;FMTTYPE=image/jpeg:https://sawh.ch/wp-content/uploads/2025/09/20250905_dlz_foto_envato_veranstaltungen_gottesdienst_02-1.jpg
END:VEVENT
BEGIN:VEVENT
DTSTART;TZID=Europe/Zurich:20260702T100000
DTEND;TZID=Europe/Zurich:20260702T110000
DTSTAMP:20260419T145330
CREATED:20251218T140501Z
LAST-MODIFIED:20251218T140501Z
UID:10000564-1782986400-1782990000@sawh.ch
SUMMARY:Gottesdienst katholisch
DESCRIPTION:Katholischer Gottesdienst im Andachtsraum   \nWir laden herzlich zu unseren katholischen Gottesdiensten im Andachtsraum ein. \nDie Feiern finden donnerstags um 10:00 Uhr statt und richten sich an Bewohnerinnen und Bewohner sowie Anwohnende. \nAlle sind willkommen – unabhängig von Konfession oder Hintergrund. \nDatum: 02. Juli 2026\nOrt: Andachtsraum\nUhrzeit: 10:00 – ca. 11.00 Uhr\nFür wen: Offen für alle – besonders für Bewohnendeund Anwohnende \nErleben Sie mit uns eine Zeit der Besinnung\, des Gebets und der Gemeinschaft. Wir freuen uns auf Sie!
URL:https://sawh.ch/event/gottesdienst-katholisch-23/
LOCATION:Andachtsraum
CATEGORIES:Extern/Intern
ATTACH;FMTTYPE=image/jpeg:https://sawh.ch/wp-content/uploads/2025/09/20250905_dlz_foto_envato_veranstaltungen_gottesdienst_02-1.jpg
END:VEVENT
BEGIN:VEVENT
DTSTART;TZID=Europe/Zurich:20260716T100000
DTEND;TZID=Europe/Zurich:20260716T110000
DTSTAMP:20260419T145330
CREATED:20251218T140144Z
LAST-MODIFIED:20251218T140234Z
UID:10000562-1784196000-1784199600@sawh.ch
SUMMARY:Gottesdienst katholisch
DESCRIPTION:Katholischer Gottesdienst im Andachtsraum   \nWir laden herzlich zu unseren katholischen Gottesdiensten im Andachtsraum ein. \nDie Feiern finden donnerstags um 10:00 Uhr statt und richten sich an Bewohnerinnen und Bewohner sowie Anwohnende. \nAlle sind willkommen – unabhängig von Konfession oder Hintergrund. \nDatum: 16. Juli 2026\nOrt: Andachtsraum\nUhrzeit: 10:00 – ca. 11.00 Uhr\nFür wen: Offen für alle – besonders für Bewohnendeund Anwohnende \nErleben Sie mit uns eine Zeit der Besinnung\, des Gebets und der Gemeinschaft. Wir freuen uns auf Sie!
URL:https://sawh.ch/event/gottesdienst-katholisch-21/
LOCATION:Andachtsraum
CATEGORIES:Extern/Intern
ATTACH;FMTTYPE=image/jpeg:https://sawh.ch/wp-content/uploads/2025/09/20250905_dlz_foto_envato_veranstaltungen_gottesdienst_02-1.jpg
END:VEVENT
BEGIN:VEVENT
DTSTART;TZID=Europe/Zurich:20260730T100000
DTEND;TZID=Europe/Zurich:20260730T110000
DTSTAMP:20260419T145330
CREATED:20251218T140109Z
LAST-MODIFIED:20251218T140109Z
UID:10000561-1785405600-1785409200@sawh.ch
SUMMARY:Gottesdienst katholisch
DESCRIPTION:Katholischer Gottesdienst im Andachtsraum   \nWir laden herzlich zu unseren katholischen Gottesdiensten im Andachtsraum ein. \nDie Feiern finden donnerstags um 10:00 Uhr statt und richten sich an Bewohnerinnen und Bewohner sowie Anwohnende. \nAlle sind willkommen – unabhängig von Konfession oder Hintergrund. \nDatum: 30. Juli 2026\nOrt: Andachtsraum\nUhrzeit: 10:00 – ca. 11.00 Uhr\nFür wen: Offen für alle – besonders für Bewohnendeund Anwohnende \nErleben Sie mit uns eine Zeit der Besinnung\, des Gebets und der Gemeinschaft. Wir freuen uns auf Sie!
URL:https://sawh.ch/event/gottesdienst-katholisch-20/
LOCATION:Andachtsraum
CATEGORIES:Extern/Intern
ATTACH;FMTTYPE=image/jpeg:https://sawh.ch/wp-content/uploads/2025/09/20250905_dlz_foto_envato_veranstaltungen_gottesdienst_02-1.jpg
END:VEVENT
BEGIN:VEVENT
DTSTART;TZID=Europe/Zurich:20260813T100000
DTEND;TZID=Europe/Zurich:20260813T110000
DTSTAMP:20260419T145330
CREATED:20251218T140018Z
LAST-MODIFIED:20251218T140018Z
UID:10000560-1786615200-1786618800@sawh.ch
SUMMARY:Gottesdienst katholisch
DESCRIPTION:Katholischer Gottesdienst im Andachtsraum   \nWir laden herzlich zu unseren katholischen Gottesdiensten im Andachtsraum ein. \nDie Feiern finden donnerstags um 10:00 Uhr statt und richten sich an Bewohnerinnen und Bewohner sowie Anwohnende. \nAlle sind willkommen – unabhängig von Konfession oder Hintergrund. \nDatum: 13. August 2026\nOrt: Andachtsraum\nUhrzeit: 10:00 – ca. 11.00 Uhr\nFür wen: Offen für alle – besonders für Bewohnendeund Anwohnende \nErleben Sie mit uns eine Zeit der Besinnung\, des Gebets und der Gemeinschaft. Wir freuen uns auf Sie!
URL:https://sawh.ch/event/gottesdienst-katholisch-19/
LOCATION:Andachtsraum
CATEGORIES:Extern/Intern
ATTACH;FMTTYPE=image/jpeg:https://sawh.ch/wp-content/uploads/2025/09/20250905_dlz_foto_envato_veranstaltungen_gottesdienst_02-1.jpg
END:VEVENT
BEGIN:VEVENT
DTSTART;TZID=Europe/Zurich:20260825T140000
DTEND;TZID=Europe/Zurich:20260924T125800
DTSTAMP:20260419T145330
CREATED:20260304T125339Z
LAST-MODIFIED:20260304T125400Z
UID:10000509-1787666400-1790254680@sawh.ch
SUMMARY:Gottesdienst reformiert
DESCRIPTION:Reformierte Gottesdienste im Andachtsraum – Oktober bis Dezember 2025 \nWir laden herzlich zu unseren reormierten Gottesdiensten im Andachtsraum ein. \nDie Feiern finden jeweils donnerstags um 10:00 Uhr statt und richten sich an Bewohnerinnen und Bewohner sowie Anwohnende. \nAlle sind willkommen – unabhängig von Konfession oder Hintergrund. \nZeitraum: Oktober bis Dezember 2025\nOrt: Andachtsraum\nUhrzeit: 10:00 – ca. 11.00 Uhr\nFür wen: Offen für alle – besonders für Bewohnende und Anwohnende \nTermine & Zelebranten: \n\nDonnerstag\, 02. Oktober – Thorsten Stelter\nDonnerstag\, 16. Oktober – Thorsten Stelter\nDonnerstag\, 30. Oktober – Thomas Villwock – mit Abendmahl\nDonnerstag\, 13. November – Thorsten Stelter\nDonnerstag\, 27. November – Thorsten Stelter\nDonnerstag\, 11. Dezember – Thorsten Stelter\nDonnerstag\, 25. Dezember – Alke de Groot – mit Abendmahl\n\n  \nErleben Sie mit uns eine Zeit der Besinnung\, des Gebets und der Gemeinschaft. Wir freuen uns auf Sie! \n 
URL:https://sawh.ch/event/gottesdienst-reformiert-5-2/
ATTACH;FMTTYPE=image/jpeg:https://sawh.ch/wp-content/uploads/2025/12/20250905_dlz_foto_envato_veranstaltungen_gottesdienst_1920x1280.jpg
END:VEVENT
BEGIN:VEVENT
DTSTART;TZID=Europe/Zurich:20260827T100000
DTEND;TZID=Europe/Zurich:20260827T110000
DTSTAMP:20260419T145330
CREATED:20251218T135938Z
LAST-MODIFIED:20251218T135938Z
UID:10000559-1787824800-1787828400@sawh.ch
SUMMARY:Gottesdienst katholisch
DESCRIPTION:Katholischer Gottesdienst im Andachtsraum   \nWir laden herzlich zu unseren katholischen Gottesdiensten im Andachtsraum ein. \nDie Feiern finden donnerstags um 10:00 Uhr statt und richten sich an Bewohnerinnen und Bewohner sowie Anwohnende. \nAlle sind willkommen – unabhängig von Konfession oder Hintergrund. \nDatum: 27. August 2026\nOrt: Andachtsraum\nUhrzeit: 10:00 – ca. 11.00 Uhr\nFür wen: Offen für alle – besonders für Bewohnendeund Anwohnende \nErleben Sie mit uns eine Zeit der Besinnung\, des Gebets und der Gemeinschaft. Wir freuen uns auf Sie!
URL:https://sawh.ch/event/gottesdienst-katholisch-18/
LOCATION:Andachtsraum
CATEGORIES:Extern/Intern
ATTACH;FMTTYPE=image/jpeg:https://sawh.ch/wp-content/uploads/2025/09/20250905_dlz_foto_envato_veranstaltungen_gottesdienst_02-1.jpg
END:VEVENT
BEGIN:VEVENT
DTSTART;TZID=Europe/Zurich:20260910T100000
DTEND;TZID=Europe/Zurich:20260910T110000
DTSTAMP:20260419T145330
CREATED:20251218T135838Z
LAST-MODIFIED:20251218T135838Z
UID:10000558-1789034400-1789038000@sawh.ch
SUMMARY:Gottesdienst katholisch
DESCRIPTION:Katholischer Gottesdienst im Andachtsraum   \nWir laden herzlich zu unseren katholischen Gottesdiensten im Andachtsraum ein. \nDie Feiern finden donnerstags um 10:00 Uhr statt und richten sich an Bewohnerinnen und Bewohner sowie Anwohnende. \nAlle sind willkommen – unabhängig von Konfession oder Hintergrund. \nDatum: 10. September 2026\nOrt: Andachtsraum\nUhrzeit: 10:00 – ca. 11.00 Uhr\nFür wen: Offen für alle – besonders für Bewohnendeund Anwohnende \nErleben Sie mit uns eine Zeit der Besinnung\, des Gebets und der Gemeinschaft. Wir freuen uns auf Sie!
URL:https://sawh.ch/event/gottesdienst-katholisch-17/
LOCATION:Andachtsraum
CATEGORIES:Extern/Intern
ATTACH;FMTTYPE=image/jpeg:https://sawh.ch/wp-content/uploads/2025/09/20250905_dlz_foto_envato_veranstaltungen_gottesdienst_02-1.jpg
END:VEVENT
BEGIN:VEVENT
DTSTART;TZID=Europe/Zurich:20260924T100000
DTEND;TZID=Europe/Zurich:20260924T110000
DTSTAMP:20260419T145330
CREATED:20251218T135751Z
LAST-MODIFIED:20251218T135751Z
UID:10000557-1790244000-1790247600@sawh.ch
SUMMARY:Gottesdienst katholisch
DESCRIPTION:Katholischer Gottesdienst im Andachtsraum   \nWir laden herzlich zu unseren katholischen Gottesdiensten im Andachtsraum ein. \nDie Feiern finden donnerstags um 10:00 Uhr statt und richten sich an Bewohnerinnen und Bewohner sowie Anwohnende. \nAlle sind willkommen – unabhängig von Konfession oder Hintergrund. \nDatum: 24. September 2026\nOrt: Andachtsraum\nUhrzeit: 10:00 – ca. 11.00 Uhr\nFür wen: Offen für alle – besonders für Bewohnendeund Anwohnende \nErleben Sie mit uns eine Zeit der Besinnung\, des Gebets und der Gemeinschaft. Wir freuen uns auf Sie!
URL:https://sawh.ch/event/gottesdienst-katholisch-16/
LOCATION:Andachtsraum
CATEGORIES:Extern/Intern
ATTACH;FMTTYPE=image/jpeg:https://sawh.ch/wp-content/uploads/2025/09/20250905_dlz_foto_envato_veranstaltungen_gottesdienst_02-1.jpg
END:VEVENT
BEGIN:VEVENT
DTSTART;TZID=Europe/Zurich:20261008T100000
DTEND;TZID=Europe/Zurich:20261008T110000
DTSTAMP:20260419T145330
CREATED:20251218T135523Z
LAST-MODIFIED:20251218T135523Z
UID:10000556-1791453600-1791457200@sawh.ch
SUMMARY:Gottesdienst katholisch
DESCRIPTION:Katholischer Gottesdienst im Andachtsraum   \nWir laden herzlich zu unseren katholischen Gottesdiensten im Andachtsraum ein. \nDie Feiern finden donnerstags um 10:00 Uhr statt und richten sich an Bewohnerinnen und Bewohner sowie Anwohnende. \nAlle sind willkommen – unabhängig von Konfession oder Hintergrund. \nDatum: 08. Oktober 2026\nOrt: Andachtsraum\nUhrzeit: 10:00 – ca. 11.00 Uhr\nFür wen: Offen für alle – besonders für Bewohnendeund Anwohnende \nErleben Sie mit uns eine Zeit der Besinnung\, des Gebets und der Gemeinschaft. Wir freuen uns auf Sie!
URL:https://sawh.ch/event/gottesdienst-katholisch-15/
LOCATION:Andachtsraum
CATEGORIES:Extern/Intern
ATTACH;FMTTYPE=image/jpeg:https://sawh.ch/wp-content/uploads/2025/09/20250905_dlz_foto_envato_veranstaltungen_gottesdienst_02-1.jpg
END:VEVENT
BEGIN:VEVENT
DTSTART;TZID=Europe/Zurich:20261022T100000
DTEND;TZID=Europe/Zurich:20261022T110000
DTSTAMP:20260419T145330
CREATED:20251218T135236Z
LAST-MODIFIED:20251218T135236Z
UID:10000555-1792663200-1792666800@sawh.ch
SUMMARY:Gottesdienst katholisch
DESCRIPTION:Katholischer Gottesdienst im Andachtsraum   \nWir laden herzlich zu unseren katholischen Gottesdiensten im Andachtsraum ein. \nDie Feiern finden donnerstags um 10:00 Uhr statt und richten sich an Bewohnerinnen und Bewohner sowie Anwohnende. \nAlle sind willkommen – unabhängig von Konfession oder Hintergrund. \nDatum: 22. Oktober 2026\nOrt: Andachtsraum\nUhrzeit: 10:00 – ca. 11.00 Uhr\nFür wen: Offen für alle – besonders für Bewohnendeund Anwohnende \nErleben Sie mit uns eine Zeit der Besinnung\, des Gebets und der Gemeinschaft. Wir freuen uns auf Sie!
URL:https://sawh.ch/event/gottesdienst-katholisch-14/
LOCATION:Andachtsraum
CATEGORIES:Extern/Intern
ATTACH;FMTTYPE=image/jpeg:https://sawh.ch/wp-content/uploads/2025/09/20250905_dlz_foto_envato_veranstaltungen_gottesdienst_02-1.jpg
END:VEVENT
BEGIN:VEVENT
DTSTART;TZID=Europe/Zurich:20261105T100000
DTEND;TZID=Europe/Zurich:20261105T110000
DTSTAMP:20260419T145330
CREATED:20251218T135145Z
LAST-MODIFIED:20251218T135311Z
UID:10000554-1793872800-1793876400@sawh.ch
SUMMARY:Gottesdienst katholisch
DESCRIPTION:Katholischer Gottesdienst im Andachtsraum   \nWir laden herzlich zu unseren katholischen Gottesdiensten im Andachtsraum ein. \nDie Feiern finden donnerstags um 10:00 Uhr statt und richten sich an Bewohnerinnen und Bewohner sowie Anwohnende. \nAlle sind willkommen – unabhängig von Konfession oder Hintergrund. \nDatum: 05. November 2026\nOrt: Andachtsraum\nUhrzeit: 10:00 – ca. 11.00 Uhr\nFür wen: Offen für alle – besonders für Bewohnendeund Anwohnende \nErleben Sie mit uns eine Zeit der Besinnung\, des Gebets und der Gemeinschaft. Wir freuen uns auf Sie!
URL:https://sawh.ch/event/gottesdienst-katholisch-13/
LOCATION:Andachtsraum
CATEGORIES:Extern/Intern
ATTACH;FMTTYPE=image/jpeg:https://sawh.ch/wp-content/uploads/2025/09/20250905_dlz_foto_envato_veranstaltungen_gottesdienst_02-1.jpg
END:VEVENT
BEGIN:VEVENT
DTSTART;TZID=Europe/Zurich:20261119T100000
DTEND;TZID=Europe/Zurich:20261119T110000
DTSTAMP:20260419T145330
CREATED:20251218T135102Z
LAST-MODIFIED:20251218T135102Z
UID:10000553-1795082400-1795086000@sawh.ch
SUMMARY:Gottesdienst katholisch
DESCRIPTION:Katholischer Gottesdienst im Andachtsraum   \nWir laden herzlich zu unseren katholischen Gottesdiensten im Andachtsraum ein. \nDie Feiern finden donnerstags um 10:00 Uhr statt und richten sich an Bewohnerinnen und Bewohner sowie Anwohnende. \nAlle sind willkommen – unabhängig von Konfession oder Hintergrund. \nDatum: 19. November 2026\nOrt: Andachtsraum\nUhrzeit: 10:00 – ca. 11.00 Uhr\nFür wen: Offen für alle – besonders für Bewohnendeund Anwohnende \nErleben Sie mit uns eine Zeit der Besinnung\, des Gebets und der Gemeinschaft. Wir freuen uns auf Sie!
URL:https://sawh.ch/event/gottesdienst-katholisch-12/
LOCATION:Andachtsraum
CATEGORIES:Extern/Intern
ATTACH;FMTTYPE=image/jpeg:https://sawh.ch/wp-content/uploads/2025/09/20250905_dlz_foto_envato_veranstaltungen_gottesdienst_02-1.jpg
END:VEVENT
BEGIN:VEVENT
DTSTART;TZID=Europe/Zurich:20261203T100000
DTEND;TZID=Europe/Zurich:20261203T110000
DTSTAMP:20260419T145330
CREATED:20251218T135006Z
LAST-MODIFIED:20251218T135006Z
UID:10000552-1796292000-1796295600@sawh.ch
SUMMARY:Gottesdienst katholisch
DESCRIPTION:Katholischer Gottesdienst im Andachtsraum   \nWir laden herzlich zu unseren katholischen Gottesdiensten im Andachtsraum ein. \nDie Feiern finden donnerstags um 10:00 Uhr statt und richten sich an Bewohnerinnen und Bewohner sowie Anwohnende. \nAlle sind willkommen – unabhängig von Konfession oder Hintergrund. \nDatum: 03. Dezember 2026\nOrt: Andachtsraum\nUhrzeit: 10:00 – ca. 11.00 Uhr\nFür wen: Offen für alle – besonders für Bewohnendeund Anwohnende \nErleben Sie mit uns eine Zeit der Besinnung\, des Gebets und der Gemeinschaft. Wir freuen uns auf Sie!
URL:https://sawh.ch/event/gottesdienst-katholisch-11/
LOCATION:Andachtsraum
CATEGORIES:Extern/Intern
ATTACH;FMTTYPE=image/jpeg:https://sawh.ch/wp-content/uploads/2025/09/20250905_dlz_foto_envato_veranstaltungen_gottesdienst_02-1.jpg
END:VEVENT
BEGIN:VEVENT
DTSTART;TZID=Europe/Zurich:20261217T100000
DTEND;TZID=Europe/Zurich:20261217T110000
DTSTAMP:20260419T145330
CREATED:20251218T134624Z
LAST-MODIFIED:20251218T134845Z
UID:10000551-1797501600-1797505200@sawh.ch
SUMMARY:Gottesdienst katholisch
DESCRIPTION:Katholischer Gottesdienst im Andachtsraum   \nWir laden herzlich zu unseren katholischen Gottesdiensten im Andachtsraum ein. \nDie Feiern finden donnerstags um 10:00 Uhr statt und richten sich an Bewohnerinnen und Bewohner sowie Anwohnende. \nAlle sind willkommen – unabhängig von Konfession oder Hintergrund. \nDatum: 17. Dezember 2026\nOrt: Andachtsraum\nUhrzeit: 10:00 – ca. 11.00 Uhr\nFür wen: Offen für alle – besonders für Bewohnendeund Anwohnende \nErleben Sie mit uns eine Zeit der Besinnung\, des Gebets und der Gemeinschaft. Wir freuen uns auf Sie!
URL:https://sawh.ch/event/gottesdienst-katholisch-10/
LOCATION:Andachtsraum
CATEGORIES:Extern/Intern
ATTACH;FMTTYPE=image/jpeg:https://sawh.ch/wp-content/uploads/2025/09/20250905_dlz_foto_envato_veranstaltungen_gottesdienst_02-1.jpg
END:VEVENT
BEGIN:VEVENT
DTSTART;TZID=Europe/Zurich:20261231T100000
DTEND;TZID=Europe/Zurich:20261231T110000
DTSTAMP:20260419T145330
CREATED:20251218T131225Z
LAST-MODIFIED:20251218T134454Z
UID:10000455-1798711200-1798714800@sawh.ch
SUMMARY:Gottesdienst katholisch
DESCRIPTION:Katholischer Gottesdienst im Andachtsraum   \nWir laden herzlich zu unseren katholischen Gottesdiensten im Andachtsraum ein. \nDie Feiern finden jeweils donnerstags um 10:00 Uhr statt und richten sich an Bewohnerinnen und Bewohner sowie Anwohnende. \nAlle sind willkommen – unabhängig von Konfession oder Hintergrund. \nDatum: 31. Dezember 2026\nOrt: Andachtsraum\nUhrzeit: 10:00 – ca. 11.00 Uhr\nFür wen: Offen für alle – besonders für Bewohnendeund Anwohnende \nErleben Sie mit uns eine Zeit der Besinnung\, des Gebets und der Gemeinschaft. Wir freuen uns auf Sie!
URL:https://sawh.ch/event/gottesdienst-katholisch-9/
LOCATION:Andachtsraum
CATEGORIES:Extern/Intern
ATTACH;FMTTYPE=image/jpeg:https://sawh.ch/wp-content/uploads/2025/09/20250905_dlz_foto_envato_veranstaltungen_gottesdienst_02-1.jpg
END:VEVENT
END:VCALENDAR